BEGIN:VCALENDAR
VERSION:2.0
PRODID:-//LB Rally Team - ECPv4.6.13//NONSGML v1.0//EN
CALSCALE:GREGORIAN
METHOD:PUBLISH
X-WR-CALNAME:LB Rally Team
X-ORIGINAL-URL:http://www.lbrt.dk
X-WR-CALDESC:Events for LB Rally Team
BEGIN:VEVENT
DTSTART;TZID=UTC+1:20141018T080000
DTEND;TZID=UTC+1:20141018T170000
DTSTAMP:20260421T215459
CREATED:20140703T122017Z
LAST-MODIFIED:20140703T122017Z
UID:893-1413619200-1413651600@www.lbrt.dk
SUMMARY:Anderup El Minirally
DESCRIPTION:Finalen i Minirally Syd – MRS – er fjerde afdeling\, som afholdes af KDAK på Fyn. \nHer er tale om “ægte” rally i miniformat\, med hurtige biler. \n
URL:http://www.lbrt.dk/loeb/anderup-el-minirally/
LOCATION:5631\, Danmark
CATEGORIES:Minirally
ATTACH;FMTTYPE=image/jpeg:http://www.lbrt.dk/wp-content/uploads/2014/07/AnderupEL205x57_srcset-large.jpg
END:VEVENT
END:VCALENDAR