BEGIN:VCALENDAR
VERSION:2.0
PRODID:-//LB Rally Team - ECPv4.6.13//NONSGML v1.0//EN
CALSCALE:GREGORIAN
METHOD:PUBLISH
X-WR-CALNAME:LB Rally Team
X-ORIGINAL-URL:http://www.lbrt.dk
X-WR-CALDESC:Events for LB Rally Team
BEGIN:VEVENT
DTSTART;TZID=UTC+1:20140920T080000
DTEND;TZID=UTC+1:20140920T170000
DTSTAMP:20260421T215233
CREATED:20140701T051945Z
LAST-MODIFIED:20140703T123810Z
UID:885-1411200000-1411232400@www.lbrt.dk
SUMMARY:Bygholms Landbrugsskole minirally
DESCRIPTION:Tredje afdeling af Minirally Syd-turneringen foregår i området omkring Horsens. \nSom minirally venter op mod 45 km. hastighedsprøver. \n
URL:http://www.lbrt.dk/loeb/bygholms-landbrugsskole-minirally/
LOCATION:Horsens\, 8700\, Danmark
CATEGORIES:Minirally
ATTACH;FMTTYPE=image/jpeg:http://www.lbrt.dk/wp-content/uploads/2014/07/mrsplakat2014bygholmmrs00_srcset-large.jpg
END:VEVENT
END:VCALENDAR