BEGIN:VCALENDAR
VERSION:2.0
PRODID:-//LB Rally Team - ECPv4.6.13//NONSGML v1.0//EN
CALSCALE:GREGORIAN
METHOD:PUBLISH
X-WR-CALNAME:LB Rally Team
X-ORIGINAL-URL:http://www.lbrt.dk
X-WR-CALDESC:Events for LB Rally Team
BEGIN:VEVENT
DTSTART;TZID=UTC+1:20140719T080000
DTEND;TZID=UTC+1:20140719T170000
DTSTAMP:20260421T234953
CREATED:20140617T193503Z
LAST-MODIFIED:20140703T123832Z
UID:709-1405756800-1405789200@www.lbrt.dk
SUMMARY:NCC Rally Masters
DESCRIPTION:Kom med til et af sæonens mest traditionsrige og publikumsvenlige rallysprints: NCC Rally Masters i Gammelrand mellem Holbæk og Kalundborg. Høj action\, fart og spænding gennem hele dagen. \n
URL:http://www.lbrt.dk/loeb/ncc-rally-masters-rallysprint/
LOCATION:Gammelrand 10\, Svebølle\, Denmark
CATEGORIES:Rallysprint
ATTACH;FMTTYPE=image/gif:http://www.lbrt.dk/wp-content/uploads/2014/06/komo_logo.gif
END:VEVENT
END:VCALENDAR