BEGIN:VCALENDAR
VERSION:2.0
PRODID:-//LB Rally Team - ECPv4.6.13//NONSGML v1.0//EN
CALSCALE:GREGORIAN
METHOD:PUBLISH
X-WR-CALNAME:LB Rally Team
X-ORIGINAL-URL:http://www.lbrt.dk
X-WR-CALDESC:Events for LB Rally Team
BEGIN:VEVENT
DTSTART;TZID=UTC+1:20140927T080000
DTEND;TZID=UTC+1:20140927T170000
DTSTAMP:20260421T234628
CREATED:20140703T121104Z
LAST-MODIFIED:20140703T123802Z
UID:888-1411804800-1411837200@www.lbrt.dk
SUMMARY:Yokohamamesterskabet Øst - 3. afd
DESCRIPTION:Tredje afdeling af 2014-udgaven af Yokohamamesterskabet øst\, bliver holdt i Roskilde\, på “Roskilde New Racing Circuit”. \nSom et rallysprint er det ganske publikumsvenligt\, og der er gratis adgang. \n
URL:http://www.lbrt.dk/loeb/yokohamamesterskabet-oest-3-afd/
LOCATION:4000\, Danmark
CATEGORIES:Rallysprint
ATTACH;FMTTYPE=image/png:http://www.lbrt.dk/wp-content/uploads/2014/07/yokomestlogo.png
END:VEVENT
END:VCALENDAR